BEGIN:VCALENDAR
VERSION:2.0
PRODID:-//Hyvinkään Moottorikerho - ECPv6.15.20//NONSGML v1.0//EN
CALSCALE:GREGORIAN
METHOD:PUBLISH
X-ORIGINAL-URL:https://hyvinkaanmoottorikerho.fi
X-WR-CALDESC:Tapahtumat Hyvinkään Moottorikerho
REFRESH-INTERVAL;VALUE=DURATION:PT1H
X-Robots-Tag:noindex
X-PUBLISHED-TTL:PT1H
BEGIN:VTIMEZONE
TZID:Europe/Helsinki
BEGIN:DAYLIGHT
TZOFFSETFROM:+0200
TZOFFSETTO:+0300
TZNAME:EEST
DTSTART:20250330T010000
END:DAYLIGHT
BEGIN:STANDARD
TZOFFSETFROM:+0300
TZOFFSETTO:+0200
TZNAME:EET
DTSTART:20251026T010000
END:STANDARD
BEGIN:DAYLIGHT
TZOFFSETFROM:+0200
TZOFFSETTO:+0300
TZNAME:EEST
DTSTART:20260329T010000
END:DAYLIGHT
BEGIN:STANDARD
TZOFFSETFROM:+0300
TZOFFSETTO:+0200
TZNAME:EET
DTSTART:20261025T010000
END:STANDARD
BEGIN:DAYLIGHT
TZOFFSETFROM:+0200
TZOFFSETTO:+0300
TZNAME:EEST
DTSTART:20270328T010000
END:DAYLIGHT
BEGIN:STANDARD
TZOFFSETFROM:+0300
TZOFFSETTO:+0200
TZNAME:EET
DTSTART:20271031T010000
END:STANDARD
END:VTIMEZONE
BEGIN:VEVENT
DTSTART;TZID=Europe/Helsinki:20260404T120000
DTEND;TZID=Europe/Helsinki:20260404T180000
DTSTAMP:20260425T183213
CREATED:20260323T181318Z
LAST-MODIFIED:20260324T144301Z
UID:4467-1775304000-1775325600@hyvinkaanmoottorikerho.fi
SUMMARY:Radat auki klo 12-18
DESCRIPTION:
URL:https://hyvinkaanmoottorikerho.fi/event/radat-auki-klo-12-18-2/
END:VEVENT
END:VCALENDAR