BEGIN:VCALENDAR
VERSION:2.0
PRODID:-//Hyvinkään Moottorikerho - ECPv6.15.20//NONSGML v1.0//EN
CALSCALE:GREGORIAN
METHOD:PUBLISH
X-WR-CALNAME:Hyvinkään Moottorikerho
X-ORIGINAL-URL:https://hyvinkaanmoottorikerho.fi
X-WR-CALDESC:Tapahtumat Hyvinkään Moottorikerho
REFRESH-INTERVAL;VALUE=DURATION:PT1H
X-Robots-Tag:noindex
X-PUBLISHED-TTL:PT1H
BEGIN:VTIMEZONE
TZID:Europe/Helsinki
BEGIN:DAYLIGHT
TZOFFSETFROM:+0200
TZOFFSETTO:+0300
TZNAME:EEST
DTSTART:20250330T010000
END:DAYLIGHT
BEGIN:STANDARD
TZOFFSETFROM:+0300
TZOFFSETTO:+0200
TZNAME:EET
DTSTART:20251026T010000
END:STANDARD
BEGIN:DAYLIGHT
TZOFFSETFROM:+0200
TZOFFSETTO:+0300
TZNAME:EEST
DTSTART:20260329T010000
END:DAYLIGHT
BEGIN:STANDARD
TZOFFSETFROM:+0300
TZOFFSETTO:+0200
TZNAME:EET
DTSTART:20261025T010000
END:STANDARD
BEGIN:DAYLIGHT
TZOFFSETFROM:+0200
TZOFFSETTO:+0300
TZNAME:EEST
DTSTART:20270328T010000
END:DAYLIGHT
BEGIN:STANDARD
TZOFFSETFROM:+0300
TZOFFSETTO:+0200
TZNAME:EET
DTSTART:20271031T010000
END:STANDARD
END:VTIMEZONE
BEGIN:VEVENT
DTSTART;TZID=Europe/Helsinki:20260514T150000
DTEND;TZID=Europe/Helsinki:20260514T180000
DTSTAMP:20260425T195756
CREATED:20260419T165444Z
LAST-MODIFIED:20260419T165444Z
UID:4528-1778770800-1778781600@hyvinkaanmoottorikerho.fi
SUMMARY:Iso rata varattu 15-18
DESCRIPTION:Iso motocrossrata varattu yksityiskäyttöön klo 15-18.
URL:https://hyvinkaanmoottorikerho.fi/event/iso-rata-varattu-15-18/
END:VEVENT
END:VCALENDAR