BEGIN:VCALENDAR
VERSION:2.0
PRODID:-//Hyvinkään Moottorikerho - ECPv6.15.20//NONSGML v1.0//EN
CALSCALE:GREGORIAN
METHOD:PUBLISH
X-ORIGINAL-URL:https://hyvinkaanmoottorikerho.fi
X-WR-CALDESC:Tapahtumat Hyvinkään Moottorikerho
REFRESH-INTERVAL;VALUE=DURATION:PT1H
X-Robots-Tag:noindex
X-PUBLISHED-TTL:PT1H
BEGIN:VTIMEZONE
TZID:Europe/Helsinki
BEGIN:DAYLIGHT
TZOFFSETFROM:+0200
TZOFFSETTO:+0300
TZNAME:EEST
DTSTART:20240331T010000
END:DAYLIGHT
BEGIN:STANDARD
TZOFFSETFROM:+0300
TZOFFSETTO:+0200
TZNAME:EET
DTSTART:20241027T010000
END:STANDARD
BEGIN:DAYLIGHT
TZOFFSETFROM:+0200
TZOFFSETTO:+0300
TZNAME:EEST
DTSTART:20250330T010000
END:DAYLIGHT
BEGIN:STANDARD
TZOFFSETFROM:+0300
TZOFFSETTO:+0200
TZNAME:EET
DTSTART:20251026T010000
END:STANDARD
BEGIN:DAYLIGHT
TZOFFSETFROM:+0200
TZOFFSETTO:+0300
TZNAME:EEST
DTSTART:20260329T010000
END:DAYLIGHT
BEGIN:STANDARD
TZOFFSETFROM:+0300
TZOFFSETTO:+0200
TZNAME:EET
DTSTART:20261025T010000
END:STANDARD
BEGIN:DAYLIGHT
TZOFFSETFROM:+0200
TZOFFSETTO:+0300
TZNAME:EEST
DTSTART:20270328T010000
END:DAYLIGHT
BEGIN:STANDARD
TZOFFSETFROM:+0300
TZOFFSETTO:+0200
TZNAME:EET
DTSTART:20271031T010000
END:STANDARD
END:VTIMEZONE
BEGIN:VEVENT
DTSTART;TZID=Europe/Helsinki:20251115T080000
DTEND;TZID=Europe/Helsinki:20260320T200000
DTSTAMP:20260425T185402
CREATED:20251114T140416Z
LAST-MODIFIED:20260318T182233Z
UID:4403-1763193600-1774036800@hyvinkaanmoottorikerho.fi
SUMMARY:Radat ja reitti suljettu
DESCRIPTION:Kaikki motocrossradat ja enduroreitti suljettu toistaiseksi.
URL:https://hyvinkaanmoottorikerho.fi/event/radat-ja-reitti-suljettu-15/
END:VEVENT
BEGIN:VEVENT
DTSTART;TZID=Europe/Helsinki:20260321T120000
DTEND;TZID=Europe/Helsinki:20260322T170000
DTSTAMP:20260425T185402
CREATED:20260318T182411Z
LAST-MODIFIED:20260318T182435Z
UID:4418-1774094400-1774198800@hyvinkaanmoottorikerho.fi
SUMMARY:Radat auki klo 12-17
DESCRIPTION:Radat auki klo 12-17.
URL:https://hyvinkaanmoottorikerho.fi/event/radat-auki-12-17/
END:VEVENT
BEGIN:VEVENT
DTSTART;TZID=Europe/Helsinki:20260323T080000
DTEND;TZID=Europe/Helsinki:20260323T200000
DTSTAMP:20260425T185402
CREATED:20260318T182602Z
LAST-MODIFIED:20260322T174859Z
UID:4422-1774252800-1774296000@hyvinkaanmoottorikerho.fi
SUMMARY:Suljettu
DESCRIPTION:
URL:https://hyvinkaanmoottorikerho.fi/event/radat-ja-reitti-suljettu-16/
END:VEVENT
BEGIN:VEVENT
DTSTART;TZID=Europe/Helsinki:20260324T150000
DTEND;TZID=Europe/Helsinki:20260326T190000
DTSTAMP:20260425T185402
CREATED:20260322T174540Z
LAST-MODIFIED:20260323T180703Z
UID:4433-1774364400-1774551600@hyvinkaanmoottorikerho.fi
SUMMARY:Radat auki klo 15-19
DESCRIPTION:
URL:https://hyvinkaanmoottorikerho.fi/event/radat-auki-klo-15-19/
END:VEVENT
BEGIN:VEVENT
DTSTART;TZID=Europe/Helsinki:20260327T080000
DTEND;TZID=Europe/Helsinki:20260327T200000
DTSTAMP:20260425T185402
CREATED:20260322T174711Z
LAST-MODIFIED:20260322T174711Z
UID:4437-1774598400-1774641600@hyvinkaanmoottorikerho.fi
SUMMARY:Suljettu
DESCRIPTION:
URL:https://hyvinkaanmoottorikerho.fi/event/suljettu-2/
END:VEVENT
BEGIN:VEVENT
DTSTART;TZID=Europe/Helsinki:20260328T120000
DTEND;TZID=Europe/Helsinki:20260329T170000
DTSTAMP:20260425T185402
CREATED:20260323T180534Z
LAST-MODIFIED:20260324T144212Z
UID:4453-1774699200-1774803600@hyvinkaanmoottorikerho.fi
SUMMARY:Radat auki klo 12-17
DESCRIPTION:
URL:https://hyvinkaanmoottorikerho.fi/event/radat-auki-klo-12-18/
END:VEVENT
BEGIN:VEVENT
DTSTART;TZID=Europe/Helsinki:20260330T080000
DTEND;TZID=Europe/Helsinki:20260330T200000
DTSTAMP:20260425T185402
CREATED:20260322T174810Z
LAST-MODIFIED:20260323T180858Z
UID:4440-1774857600-1774900800@hyvinkaanmoottorikerho.fi
SUMMARY:Suljettu
DESCRIPTION:
URL:https://hyvinkaanmoottorikerho.fi/event/huoltopaiva-83/
END:VEVENT
BEGIN:VEVENT
DTSTART;TZID=Europe/Helsinki:20260331T150000
DTEND;TZID=Europe/Helsinki:20260402T190000
DTSTAMP:20260425T185402
CREATED:20260323T180821Z
LAST-MODIFIED:20260323T180821Z
UID:4459-1774969200-1775156400@hyvinkaanmoottorikerho.fi
SUMMARY:Radat auki klo 15-19
DESCRIPTION:
URL:https://hyvinkaanmoottorikerho.fi/event/radat-auki-klo-15-19-2/
END:VEVENT
END:VCALENDAR